BEGIN:VCALENDAR
VERSION:2.0
PRODID:-//hacksw/handcal//NONSGML v1.0//EN
CALSCALE:GREGORIAN
BEGIN:VEVENT
SUMMARY:Film\, die stillen Helden vom Säntis. «HÖLDE»
DTSTART:20260423T140000Z
DTEND:20260423T000000Z
LOCATION:Kirchgemeindesaal Hemberg
DTSTAMP:20260312T151458Z
UID:69b2ca6220006
END:VEVENT
END:VCALENDAR