BEGIN:VCALENDAR
VERSION:2.0
PRODID:-//hacksw/handcal//NONSGML v1.0//EN
CALSCALE:GREGORIAN
BEGIN:VEVENT
SUMMARY:Kinderwoche
DTSTART:20260408T140000Z
DTEND:20260408T170000Z
LOCATION:Altes Schulhaus Nassen
DTSTAMP:20260302T081006Z
UID:69a537cebb1a9
END:VEVENT
END:VCALENDAR