BEGIN:VCALENDAR
VERSION:2.0
PRODID:-//hacksw/handcal//NONSGML v1.0//EN
CALSCALE:GREGORIAN
BEGIN:VEVENT
SUMMARY:Seniorennachmittag
DTSTART:20260422T143000Z
DTEND:20260422T160000Z
LOCATION:Liebenau Neckertal
DTSTAMP:20260305T103536Z
UID:69a94e68cb4d8
END:VEVENT
END:VCALENDAR