BEGIN:VCALENDAR
VERSION:2.0
PRODID:-//hacksw/handcal//NONSGML v1.0//EN
CALSCALE:GREGORIAN
BEGIN:VEVENT
SUMMARY:Musig i de Schüür
DTSTART:20260425T180000Z
DTEND:20260425T220000Z
LOCATION:Event Raum Schüür
DTSTAMP:20260317T080836Z
UID:69b8fdf4212f1
END:VEVENT
END:VCALENDAR