BEGIN:VCALENDAR
VERSION:2.0
PRODID:-//hacksw/handcal//NONSGML v1.0//EN
CALSCALE:GREGORIAN
BEGIN:VEVENT
SUMMARY:Vorbereitungskonzert fürs eidgenössische Musikfest
DTSTART:20260424T183000Z
DTEND:20260424T230000Z
LOCATION:Mehrzweckanlage Mogelsberg
DTSTAMP:20260323T164013Z
UID:69c15eddbc457
END:VEVENT
END:VCALENDAR