BEGIN:VCALENDAR
VERSION:2.0
PRODID:-//hacksw/handcal//NONSGML v1.0//EN
CALSCALE:GREGORIAN
BEGIN:VEVENT
SUMMARY:Musikunterhaltung MG Mogelsberg
DTSTART:20260425T183000Z
DTEND:20260425T230000Z
LOCATION:Mehrzweckanlage Mogelsberg
DTSTAMP:20260323T164026Z
UID:69c15eeaa054f
END:VEVENT
END:VCALENDAR