BEGIN:VCALENDAR
VERSION:2.0
PRODID:-//hacksw/handcal//NONSGML v1.0//EN
CALSCALE:GREGORIAN
BEGIN:VEVENT
SUMMARY:Seelenpflaster LEA
DTSTART:20260423T190000Z
DTEND:20260423T210000Z
LOCATION:Kirchgemeindehaus Hemberg\, Wattwilerstrasse 3\, 9633 Hemberg
DTSTAMP:20260407T085622Z
UID:69d4aa9630da3
END:VEVENT
END:VCALENDAR