BEGIN:VCALENDAR
VERSION:2.0
PRODID:-//hacksw/handcal//NONSGML v1.0//EN
CALSCALE:GREGORIAN
BEGIN:VEVENT
SUMMARY:Zu Gast bei Firma Schmid - Vom Papier zum Buch
DTSTART:20260423T170000Z
DTEND:20260423T190000Z
LOCATION:Firma Schmid
DTSTAMP:20260417T072439Z
UID:69e1c417bc3c8
END:VEVENT
END:VCALENDAR