BEGIN:VCALENDAR
VERSION:2.0
PRODID:-//hacksw/handcal//NONSGML v1.0//EN
CALSCALE:GREGORIAN
BEGIN:VEVENT
SUMMARY:Adventssingen Primarschule Hemberg und Bächli
DTSTART:20231208T000000Z
DTEND:20231208T000000Z
LOCATION:Reformierte Kirche Hemberg
DTSTAMP:20231106T081623Z
UID:654892c71198c
END:VEVENT
END:VCALENDAR